BEGIN:VCALENDAR
VERSION:2.0
PRODID:-//Tukios.com/
BEGIN:VEVENT
UID:8fffd76f-1d44-4445-a496-3e92434ac57b@www.kochfuneral.com
DTSTAMP:20260420T031000Z
DTSTART:20260421T161500Z
DTEND:20260421T171500Z
SUMMARY:Graveside Service
DESCRIPTION:Service will start immediately following calling hours at 
	Koch Funeral Home.
URL:https://www.kochfuneral.com/obituaries/sally-zarbaugh
LOCATION:    Scio OH 43988
GEO:40.3945438;-81.0917018
END:VEVENT
END:VCALENDAR