BEGIN:VCALENDAR
VERSION:2.0
PRODID:-//Tukios.com/
BEGIN:VEVENT
UID:e7e43874-01f3-41f6-9637-9d771a199039@www.kochfuneral.com
DTSTAMP:20260420T031122Z
DTSTART:20260421T150000Z
DTEND:20260421T160000Z
SUMMARY:Visitation
DESCRIPTION:
URL:https://www.kochfuneral.com/obituaries/sally-zarbaugh
LOCATION: 101 W Main St  Scio OH 43988
GEO:40.3966696;-81.0854903
END:VEVENT
END:VCALENDAR